BEGIN:VCALENDAR
VERSION:2.0
PRODID:-//Digitale Philosophie - ECPv6.15.20//NONSGML v1.0//EN
CALSCALE:GREGORIAN
METHOD:PUBLISH
X-WR-CALNAME:Digitale Philosophie
X-ORIGINAL-URL:https://digitale-philosophie.de
X-WR-CALDESC:Veranstaltungen für Digitale Philosophie
REFRESH-INTERVAL;VALUE=DURATION:PT1H
X-Robots-Tag:noindex
X-PUBLISHED-TTL:PT1H
BEGIN:VTIMEZONE
TZID:Europe/Berlin
BEGIN:DAYLIGHT
TZOFFSETFROM:+0100
TZOFFSETTO:+0200
TZNAME:CEST
DTSTART:20240331T010000
END:DAYLIGHT
BEGIN:STANDARD
TZOFFSETFROM:+0200
TZOFFSETTO:+0100
TZNAME:CET
DTSTART:20241027T010000
END:STANDARD
BEGIN:DAYLIGHT
TZOFFSETFROM:+0100
TZOFFSETTO:+0200
TZNAME:CEST
DTSTART:20250330T010000
END:DAYLIGHT
BEGIN:STANDARD
TZOFFSETFROM:+0200
TZOFFSETTO:+0100
TZNAME:CET
DTSTART:20251026T010000
END:STANDARD
BEGIN:DAYLIGHT
TZOFFSETFROM:+0100
TZOFFSETTO:+0200
TZNAME:CEST
DTSTART:20260329T010000
END:DAYLIGHT
BEGIN:STANDARD
TZOFFSETFROM:+0200
TZOFFSETTO:+0100
TZNAME:CET
DTSTART:20261025T010000
END:STANDARD
END:VTIMEZONE
BEGIN:VEVENT
DTSTART;TZID=Europe/Berlin:20250904T000000
DTEND;TZID=Europe/Berlin:20250905T160000
DTSTAMP:20260420T113801
CREATED:20250708T134625Z
LAST-MODIFIED:20250708T135206Z
UID:1528-1756944000-1757088000@digitale-philosophie.de
SUMMARY:Wie in der Philosophie mit und über Daten forschen und lehren? (Workshop Digitale Philosophie 1\, gemeinsam mit DALIA)
DESCRIPTION:Der Call for Abstracts kann hier abgerufen werden. \nDie Veranstaltungsseite findet sich hier.
URL:https://digitale-philosophie.de/kalender/wie-in-der-philosophie-mit-und-ueber-daten-forschen-und-lehren-workshop-digitale-philosophie-1-gemeinsam-mit-dalia
LOCATION:Akademie der Wissenschaften und der Literautr|Mainz\, Geschwister-Scholl-Strasse 2\, Mainz\, Rheinland-Pfalz\, 55131\, Germany
END:VEVENT
END:VCALENDAR